Package: flowCore Version: 2.19.0 Command: /home/biocbuild/R/R/bin/R CMD build --keep-empty-dirs --no-resave-data flowCore StartedAt: 2025-01-28 22:55:40 -0000 (Tue, 28 Jan 2025) EndedAt: 2025-01-28 22:57:28 -0000 (Tue, 28 Jan 2025) EllapsedTime: 108.0 seconds RetCode: 0 Status: OK PackageFile: flowCore_2.19.0.tar.gz PackageFileSize: 7.458 MiB