Package: flowCore Version: 2.19.0 Command: /home/biocbuild/R/R/bin/R CMD check --install=check:flowCore.install-out.txt --library=/home/biocbuild/R/R/site-library --no-vignettes --timings flowCore_2.19.0.tar.gz StartedAt: 2025-01-28 10:39:57 -0000 (Tue, 28 Jan 2025) EndedAt: 2025-01-28 10:42:59 -0000 (Tue, 28 Jan 2025) EllapsedTime: 182.2 seconds RetCode: 0 Status: WARNINGS CheckDir: flowCore.Rcheck Warnings: 3