Package: flowCore Version: 2.19.0 Command: /Library/Frameworks/R.framework/Resources/bin/R CMD check --install=check:flowCore.install-out.txt --library=/Library/Frameworks/R.framework/Resources/library --no-vignettes --timings flowCore_2.19.0.tar.gz StartedAt: 2025-02-09 20:44:47 -0500 (Sun, 09 Feb 2025) EndedAt: 2025-02-09 20:47:57 -0500 (Sun, 09 Feb 2025) EllapsedTime: 190.2 seconds RetCode: 0 Status: WARNINGS CheckDir: flowCore.Rcheck Warnings: 3