Package: flowCore Version: 2.19.0 Command: /home/biocbuild/bbs-3.21-bioc/R/bin/R CMD check --install=check:flowCore.install-out.txt --library=/home/biocbuild/bbs-3.21-bioc/R/site-library --timings flowCore_2.19.0.tar.gz StartedAt: 2025-02-09 22:21:47 -0500 (Sun, 09 Feb 2025) EndedAt: 2025-02-09 22:24:33 -0500 (Sun, 09 Feb 2025) EllapsedTime: 165.3 seconds RetCode: 0 Status: WARNINGS CheckDir: flowCore.Rcheck Warnings: 3