Package: flowCore Version: 2.19.0 Command: /home/biocbuild/bbs-3.21-bioc/R/bin/R CMD INSTALL flowCore StartedAt: 2025-02-03 15:21:49 -0500 (Mon, 03 Feb 2025) EndedAt: 2025-02-03 15:22:33 -0500 (Mon, 03 Feb 2025) EllapsedTime: 43.3 seconds RetCode: 0 Status: OK