Package: flowCut Version: 1.17.0 Command: /Library/Frameworks/R.framework/Resources/bin/R CMD INSTALL flowCut StartedAt: 2025-02-09 15:34:13 -0500 (Sun, 09 Feb 2025) EndedAt: 2025-02-09 15:34:25 -0500 (Sun, 09 Feb 2025) EllapsedTime: 12.4 seconds RetCode: 0 Status: OK