Package: flowCut Version: 1.17.0 Command: /home/biocbuild/bbs-3.21-bioc/R/bin/R CMD build --keep-empty-dirs --no-resave-data flowCut StartedAt: 2025-02-09 17:16:10 -0500 (Sun, 09 Feb 2025) EndedAt: 2025-02-09 17:16:34 -0500 (Sun, 09 Feb 2025) EllapsedTime: 24.0 seconds RetCode: 0 Status: OK PackageFile: flowCut_1.17.0.tar.gz PackageFileSize: 7.578 MiB