Package: flowCut Version: 1.17.0 Command: rm -rf flowCut.buildbin-libdir && mkdir flowCut.buildbin-libdir && E:\biocbuild\bbs-3.21-bioc\R\bin\R.exe CMD INSTALL --build --library=flowCut.buildbin-libdir flowCut_1.17.0.tar.gz StartedAt: 2025-02-10 07:45:44 -0500 (Mon, 10 Feb 2025) EndedAt: 2025-02-10 07:46:03 -0500 (Mon, 10 Feb 2025) EllapsedTime: 19.3 seconds RetCode: 0 Status: OK PackageFile: flowCut_1.17.0.zip PackageFileSize: 6.406 MiB