Package: flowCut Version: 1.17.0 Command: chmod a+r flowCut -R && E:\biocbuild\bbs-3.21-bioc\R\bin\R.exe CMD build --keep-empty-dirs --no-resave-data flowCut StartedAt: 2025-02-09 18:44:13 -0500 (Sun, 09 Feb 2025) EndedAt: 2025-02-09 18:44:58 -0500 (Sun, 09 Feb 2025) EllapsedTime: 44.5 seconds RetCode: 0 Status: OK PackageFile: flowCut_1.17.0.tar.gz PackageFileSize: 6.732 MiB