Package: flowCut Version: 1.17.0 Command: E:\biocbuild\bbs-3.21-bioc\R\bin\R.exe CMD INSTALL flowCut StartedAt: 2025-02-09 15:58:19 -0500 (Sun, 09 Feb 2025) EndedAt: 2025-02-09 15:58:30 -0500 (Sun, 09 Feb 2025) EllapsedTime: 11.3 seconds RetCode: 0 Status: OK