Package: flowCyBar Version: 1.43.0 Command: /Library/Frameworks/R.framework/Resources/bin/R CMD check --install=check:flowCyBar.install-out.txt --library=/Library/Frameworks/R.framework/Resources/library --no-vignettes --timings flowCyBar_1.43.0.tar.gz StartedAt: 2025-02-09 19:14:51 -0500 (Sun, 09 Feb 2025) EndedAt: 2025-02-09 19:15:11 -0500 (Sun, 09 Feb 2025) EllapsedTime: 20.2 seconds RetCode: 0 Status: OK CheckDir: flowCyBar.Rcheck Warnings: 0