Package: flowCyBar Version: 1.43.0 Command: /home/biocbuild/R/R/bin/R CMD INSTALL flowCyBar StartedAt: 2025-01-29 19:35:52 -0000 (Wed, 29 Jan 2025) EndedAt: 2025-01-29 19:36:18 -0000 (Wed, 29 Jan 2025) EllapsedTime: 25.9 seconds RetCode: 0 Status: OK