Package: flowCyBar Version: 1.43.0 Command: /Library/Frameworks/R.framework/Resources/bin/R CMD INSTALL flowCyBar StartedAt: 2025-02-09 15:07:44 -0500 (Sun, 09 Feb 2025) EndedAt: 2025-02-09 15:08:13 -0500 (Sun, 09 Feb 2025) EllapsedTime: 28.3 seconds RetCode: 0 Status: OK