Package: flowCyBar Version: 1.43.0 Command: /home/biocbuild/bbs-3.21-bioc/R/bin/R CMD build --keep-empty-dirs --no-resave-data flowCyBar StartedAt: 2025-02-09 17:16:19 -0500 (Sun, 09 Feb 2025) EndedAt: 2025-02-09 17:16:36 -0500 (Sun, 09 Feb 2025) EllapsedTime: 17.0 seconds RetCode: 0 Status: OK PackageFile: flowCyBar_1.43.0.tar.gz PackageFileSize: 508 KiB