Package: flowCyBar Version: 1.43.0 Command: /home/biocbuild/bbs-3.21-bioc/R/bin/R CMD INSTALL flowCyBar StartedAt: 2025-02-09 15:06:48 -0500 (Sun, 09 Feb 2025) EndedAt: 2025-02-09 15:07:22 -0500 (Sun, 09 Feb 2025) EllapsedTime: 33.7 seconds RetCode: 0 Status: OK