Package: flowCyBar Version: 1.43.0 Command: chmod a+r flowCyBar -R && E:\biocbuild\bbs-3.21-bioc\R\bin\R.exe CMD build --keep-empty-dirs --no-resave-data flowCyBar StartedAt: 2025-02-09 18:44:25 -0500 (Sun, 09 Feb 2025) EndedAt: 2025-02-09 18:44:56 -0500 (Sun, 09 Feb 2025) EllapsedTime: 31.3 seconds RetCode: 0 Status: OK PackageFile: flowCyBar_1.43.0.tar.gz PackageFileSize: 318.1 KiB