Package: flowFP Version: 1.65.0 Command: /Library/Frameworks/R.framework/Resources/bin/R CMD check --install=check:flowFP.install-out.txt --library=/Library/Frameworks/R.framework/Resources/library --no-vignettes --timings flowFP_1.65.0.tar.gz StartedAt: 2025-02-09 19:15:10 -0500 (Sun, 09 Feb 2025) EndedAt: 2025-02-09 19:15:47 -0500 (Sun, 09 Feb 2025) EllapsedTime: 37.5 seconds RetCode: 0 Status: WARNINGS CheckDir: flowFP.Rcheck Warnings: 1