Package: flowFP Version: 1.65.0 Command: rm -rf flowFP.buildbin-libdir && mkdir flowFP.buildbin-libdir && /Users/biocbuild/BBS/utils/build-universal.sh flowFP_1.65.0.tar.gz /Library/Frameworks/R.framework/Resources/bin/R flowFP.buildbin-libdir StartedAt: 2025-02-10 00:53:46 -0500 (Mon, 10 Feb 2025) EndedAt: 2025-02-10 00:54:15 -0500 (Mon, 10 Feb 2025) EllapsedTime: 29.1 seconds RetCode: 0 Status: OK PackageFile: flowFP_1.65.0.tgz PackageFileSize: 5.534 MiB