Package: flowFP Version: 1.65.0 Command: /home/biocbuild/bbs-3.21-bioc/R/bin/R CMD check --install=check:flowFP.install-out.txt --library=/home/biocbuild/bbs-3.21-bioc/R/site-library --timings flowFP_1.65.0.tar.gz StartedAt: 2025-02-09 22:22:12 -0500 (Sun, 09 Feb 2025) EndedAt: 2025-02-09 22:23:47 -0500 (Sun, 09 Feb 2025) EllapsedTime: 95.2 seconds RetCode: 0 Status: OK CheckDir: flowFP.Rcheck Warnings: 0