Package: flowFP Version: 1.65.0 Command: E:\biocbuild\bbs-3.21-bioc\R\bin\R.exe CMD INSTALL flowFP StartedAt: 2025-02-12 15:45:24 -0500 (Wed, 12 Feb 2025) EndedAt: 2025-02-12 15:45:59 -0500 (Wed, 12 Feb 2025) EllapsedTime: 35.5 seconds RetCode: 0 Status: OK