Package: flowGate Version: 1.7.0 Command: rm -rf flowGate.buildbin-libdir && mkdir flowGate.buildbin-libdir && /Users/biocbuild/BBS/utils/build-universal.sh flowGate_1.7.0.tar.gz /Library/Frameworks/R.framework/Resources/bin/R flowGate.buildbin-libdir StartedAt: 2025-02-09 22:14:38 -0500 (Sun, 09 Feb 2025) EndedAt: 2025-02-09 22:14:44 -0500 (Sun, 09 Feb 2025) EllapsedTime: 6.1 seconds RetCode: 0 Status: OK PackageFile: flowGate_1.7.0.tgz PackageFileSize: 1.682 MiB