Package: flowGate Version: 1.7.0 Command: /home/biocbuild/bbs-3.21-bioc/R/bin/R CMD build --keep-empty-dirs --no-resave-data flowGate StartedAt: 2025-02-09 17:16:24 -0500 (Sun, 09 Feb 2025) EndedAt: 2025-02-09 17:16:50 -0500 (Sun, 09 Feb 2025) EllapsedTime: 26.0 seconds RetCode: 0 Status: OK PackageFile: flowGate_1.7.0.tar.gz PackageFileSize: 2.099 MiB