Package: flowMatch Version: 1.43.0 Command: /Library/Frameworks/R.framework/Resources/bin/R CMD build --keep-empty-dirs --no-resave-data flowMatch StartedAt: 2025-02-09 16:46:57 -0500 (Sun, 09 Feb 2025) EndedAt: 2025-02-09 16:47:44 -0500 (Sun, 09 Feb 2025) EllapsedTime: 46.9 seconds RetCode: 0 Status: OK PackageFile: flowMatch_1.43.0.tar.gz PackageFileSize: 3.676 MiB