Package: flowMatch Version: 1.43.0 Command: /home/biocbuild/bbs-3.21-bioc/R/bin/R CMD INSTALL flowMatch StartedAt: 2025-02-12 15:14:08 -0500 (Wed, 12 Feb 2025) EndedAt: 2025-02-12 15:14:33 -0500 (Wed, 12 Feb 2025) EllapsedTime: 25.6 seconds RetCode: 0 Status: OK