Package: flowMeans Version: 1.67.0 Command: rm -rf flowMeans.buildbin-libdir && mkdir flowMeans.buildbin-libdir && /Users/biocbuild/BBS/utils/build-universal.sh flowMeans_1.67.0.tar.gz /Library/Frameworks/R.framework/Resources/bin/R flowMeans.buildbin-libdir StartedAt: 2025-02-09 22:14:40 -0500 (Sun, 09 Feb 2025) EndedAt: 2025-02-09 22:14:53 -0500 (Sun, 09 Feb 2025) EllapsedTime: 13.3 seconds RetCode: 0 Status: OK PackageFile: flowMeans_1.67.0.tgz PackageFileSize: 3.543 MiB