Package: flowMeans Version: 1.67.0 Command: /Library/Frameworks/R.framework/Resources/bin/R CMD build --keep-empty-dirs --no-resave-data flowMeans StartedAt: 2025-02-09 16:21:03 -0500 (Sun, 09 Feb 2025) EndedAt: 2025-02-09 16:21:17 -0500 (Sun, 09 Feb 2025) EllapsedTime: 14.2 seconds RetCode: 0 Status: OK PackageFile: flowMeans_1.67.0.tar.gz PackageFileSize: 3.284 MiB