Package: flowMeans Version: 1.67.0 Command: /Library/Frameworks/R.framework/Resources/bin/R CMD INSTALL flowMeans StartedAt: 2025-02-09 15:03:47 -0500 (Sun, 09 Feb 2025) EndedAt: 2025-02-09 15:03:54 -0500 (Sun, 09 Feb 2025) EllapsedTime: 7.0 seconds RetCode: 0 Status: OK