Package: flowMeans Version: 1.67.0 Command: /home/biocbuild/R/R/bin/R CMD check --install=check:flowMeans.install-out.txt --library=/home/biocbuild/R/R/site-library --no-vignettes --timings flowMeans_1.67.0.tar.gz StartedAt: 2025-01-28 10:40:48 -0000 (Tue, 28 Jan 2025) EndedAt: 2025-01-28 10:42:58 -0000 (Tue, 28 Jan 2025) EllapsedTime: 130.1 seconds RetCode: 0 Status: OK CheckDir: flowMeans.Rcheck Warnings: 0