Package: flowMeans Version: 1.67.0 Command: /Library/Frameworks/R.framework/Resources/bin/R CMD check --install=check:flowMeans.install-out.txt --library=/Library/Frameworks/R.framework/Resources/library --no-vignettes --timings flowMeans_1.67.0.tar.gz StartedAt: 2025-02-09 20:45:51 -0500 (Sun, 09 Feb 2025) EndedAt: 2025-02-09 20:48:20 -0500 (Sun, 09 Feb 2025) EllapsedTime: 149.0 seconds RetCode: 0 Status: OK CheckDir: flowMeans.Rcheck Warnings: 0