Package: flowMeans Version: 1.67.0 Command: /home/biocbuild/bbs-3.21-bioc/R/bin/R CMD INSTALL flowMeans StartedAt: 2025-02-09 15:13:30 -0500 (Sun, 09 Feb 2025) EndedAt: 2025-02-09 15:13:47 -0500 (Sun, 09 Feb 2025) EllapsedTime: 16.5 seconds RetCode: 0 Status: OK