Package: flowMeans Version: 1.67.0 Command: rm -rf flowMeans.buildbin-libdir && mkdir flowMeans.buildbin-libdir && E:\biocbuild\bbs-3.21-bioc\R\bin\R.exe CMD INSTALL --build --library=flowMeans.buildbin-libdir flowMeans_1.67.0.tar.gz StartedAt: 2025-02-10 07:46:00 -0500 (Mon, 10 Feb 2025) EndedAt: 2025-02-10 07:46:25 -0500 (Mon, 10 Feb 2025) EllapsedTime: 25.0 seconds RetCode: 0 Status: OK PackageFile: flowMeans_1.67.0.zip PackageFileSize: 3.454 MiB