Package: flowMeans Version: 1.67.0 Command: E:\biocbuild\bbs-3.21-bioc\R\bin\R.exe CMD INSTALL flowMeans StartedAt: 2025-02-12 15:36:40 -0500 (Wed, 12 Feb 2025) EndedAt: 2025-02-12 15:37:00 -0500 (Wed, 12 Feb 2025) EllapsedTime: 19.7 seconds RetCode: 0 Status: OK