Package: flowMerge Version: 2.55.0 Command: /home/biocbuild/R/R/bin/R CMD build --keep-empty-dirs --no-resave-data flowMerge StartedAt: 2025-01-28 22:56:49 -0000 (Tue, 28 Jan 2025) EndedAt: 2025-01-28 22:57:46 -0000 (Tue, 28 Jan 2025) EllapsedTime: 57.0 seconds RetCode: 0 Status: OK PackageFile: flowMerge_2.55.0.tar.gz PackageFileSize: 485.1 KiB