Package: flowMerge Version: 2.55.0 Command: /home/biocbuild/R/R/bin/R CMD check --install=check:flowMerge.install-out.txt --library=/home/biocbuild/R/R/site-library --no-vignettes --timings flowMerge_2.55.0.tar.gz StartedAt: 2025-01-28 10:40:49 -0000 (Tue, 28 Jan 2025) EndedAt: 2025-01-28 10:42:45 -0000 (Tue, 28 Jan 2025) EllapsedTime: 116.1 seconds RetCode: 0 Status: WARNINGS CheckDir: flowMerge.Rcheck Warnings: 1