Package: flowMerge Version: 2.55.0 Command: chmod a+r flowMerge -R && E:\biocbuild\bbs-3.21-bioc\R\bin\R.exe CMD build --keep-empty-dirs --no-resave-data flowMerge StartedAt: 2025-02-09 18:44:56 -0500 (Sun, 09 Feb 2025) EndedAt: 2025-02-09 18:46:10 -0500 (Sun, 09 Feb 2025) EllapsedTime: 73.7 seconds RetCode: 0 Status: OK PackageFile: flowMerge_2.55.0.tar.gz PackageFileSize: 450.7 KiB