Package: flowMerge Version: 2.55.0 Command: E:\biocbuild\bbs-3.21-bioc\R\bin\R.exe CMD INSTALL flowMerge StartedAt: 2025-02-09 15:46:13 -0500 (Sun, 09 Feb 2025) EndedAt: 2025-02-09 15:46:53 -0500 (Sun, 09 Feb 2025) EllapsedTime: 40.5 seconds RetCode: 0 Status: OK