Package: flowPeaks Version: 1.53.2 Command: /Library/Frameworks/R.framework/Resources/bin/R CMD INSTALL flowPeaks StartedAt: 2025-02-04 15:01:03 -0500 (Tue, 04 Feb 2025) EndedAt: 2025-02-04 15:01:09 -0500 (Tue, 04 Feb 2025) EllapsedTime: 6.1 seconds RetCode: 0 Status: OK