Package: flowPeaks Version: 1.53.2 Command: /home/biocbuild/R/R/bin/R CMD build --keep-empty-dirs --no-resave-data flowPeaks StartedAt: 2025-01-28 22:56:50 -0000 (Tue, 28 Jan 2025) EndedAt: 2025-01-28 22:57:21 -0000 (Tue, 28 Jan 2025) EllapsedTime: 31.0 seconds RetCode: 0 Status: OK PackageFile: flowPeaks_1.53.2.tar.gz PackageFileSize: 2.643 MiB