Package: flowPeaks Version: 1.53.2 Command: /home/biocbuild/R/R/bin/R CMD check --install=check:flowPeaks.install-out.txt --library=/home/biocbuild/R/R/site-library --no-vignettes --timings flowPeaks_1.53.2.tar.gz StartedAt: 2025-01-28 10:41:01 -0000 (Tue, 28 Jan 2025) EndedAt: 2025-01-28 10:41:21 -0000 (Tue, 28 Jan 2025) EllapsedTime: 20.0 seconds RetCode: 0 Status: OK CheckDir: flowPeaks.Rcheck Warnings: 0