Package: flowPeaks Version: 1.53.2 Command: rm -rf flowPeaks.buildbin-libdir && mkdir flowPeaks.buildbin-libdir && /Users/biocbuild/BBS/utils/build-universal.sh flowPeaks_1.53.2.tar.gz /Library/Frameworks/R.framework/Resources/bin/R flowPeaks.buildbin-libdir StartedAt: 2025-02-04 00:34:35 -0500 (Tue, 04 Feb 2025) EndedAt: 2025-02-04 00:35:00 -0500 (Tue, 04 Feb 2025) EllapsedTime: 24.4 seconds RetCode: 0 Status: OK PackageFile: flowPeaks_1.53.2.tgz PackageFileSize: 4.265 MiB