Package: flowPeaks Version: 1.53.2 Command: /Library/Frameworks/R.framework/Resources/bin/R CMD build --keep-empty-dirs --no-resave-data flowPeaks StartedAt: 2025-02-09 16:47:05 -0500 (Sun, 09 Feb 2025) EndedAt: 2025-02-09 16:47:42 -0500 (Sun, 09 Feb 2025) EllapsedTime: 36.6 seconds RetCode: 0 Status: OK PackageFile: flowPeaks_1.53.2.tar.gz PackageFileSize: 3.904 MiB