Package: flowPeaks Version: 1.53.2 Command: /Library/Frameworks/R.framework/Resources/bin/R CMD INSTALL flowPeaks StartedAt: 2025-02-09 15:03:17 -0500 (Sun, 09 Feb 2025) EndedAt: 2025-02-09 15:03:31 -0500 (Sun, 09 Feb 2025) EllapsedTime: 13.8 seconds RetCode: 0 Status: OK