Package: flowPeaks Version: 1.53.2 Command: /home/biocbuild/bbs-3.21-bioc/R/bin/R CMD INSTALL flowPeaks StartedAt: 2025-02-09 15:02:36 -0500 (Sun, 09 Feb 2025) EndedAt: 2025-02-09 15:02:52 -0500 (Sun, 09 Feb 2025) EllapsedTime: 16.6 seconds RetCode: 0 Status: OK