Package: flowPeaks Version: 1.53.2 Command: chmod a+r flowPeaks -R && E:\biocbuild\bbs-3.21-bioc\R\bin\R.exe CMD build --keep-empty-dirs --no-resave-data flowPeaks StartedAt: 2025-02-09 18:44:58 -0500 (Sun, 09 Feb 2025) EndedAt: 2025-02-09 18:46:07 -0500 (Sun, 09 Feb 2025) EllapsedTime: 68.7 seconds RetCode: 0 Status: OK PackageFile: flowPeaks_1.53.2.tar.gz PackageFileSize: 3.892 MiB