Package: flowPeaks Version: 1.53.2 Command: E:\biocbuild\bbs-3.21-bioc\R\bin\R.exe CMD INSTALL flowPeaks StartedAt: 2025-02-09 15:18:23 -0500 (Sun, 09 Feb 2025) EndedAt: 2025-02-09 15:19:25 -0500 (Sun, 09 Feb 2025) EllapsedTime: 62.1 seconds RetCode: 0 Status: OK