Package: flowPloidy Version: 1.33.0 Command: /Library/Frameworks/R.framework/Resources/bin/R CMD build --keep-empty-dirs --no-resave-data flowPloidy StartedAt: 2025-02-09 16:21:16 -0500 (Sun, 09 Feb 2025) EndedAt: 2025-02-09 16:21:27 -0500 (Sun, 09 Feb 2025) EllapsedTime: 11.1 seconds RetCode: 1 Status: ERROR PackageFile: None PackageFileSize: NA