Package: flowPloidy Version: 1.33.0 Command: /Library/Frameworks/R.framework/Resources/bin/R CMD INSTALL flowPloidy StartedAt: 2025-02-04 15:20:19 -0500 (Tue, 04 Feb 2025) EndedAt: 2025-02-04 15:20:23 -0500 (Tue, 04 Feb 2025) EllapsedTime: 4.7 seconds RetCode: 0 Status: OK