Package: flowPloidy Version: 1.33.0 Command: /home/biocbuild/R/R/bin/R CMD INSTALL flowPloidy StartedAt: 2025-01-29 20:17:00 -0000 (Wed, 29 Jan 2025) EndedAt: 2025-01-29 20:17:14 -0000 (Wed, 29 Jan 2025) EllapsedTime: 14.5 seconds RetCode: 0 Status: OK