Package: flowPloidy Version: 1.33.0 Command: /Library/Frameworks/R.framework/Resources/bin/R CMD build --keep-empty-dirs --no-resave-data flowPloidy StartedAt: 2025-02-04 16:43:38 -0500 (Tue, 04 Feb 2025) EndedAt: 2025-02-04 16:44:19 -0500 (Tue, 04 Feb 2025) EllapsedTime: 41.2 seconds RetCode: 0 Status: OK PackageFile: flowPloidy_1.33.0.tar.gz PackageFileSize: 2.332 MiB