Package: flowPloidy Version: 1.33.0 Command: /Library/Frameworks/R.framework/Resources/bin/R CMD check --install=check:flowPloidy.install-out.txt --library=/Library/Frameworks/R.framework/Resources/library --no-vignettes --timings flowPloidy_1.33.0.tar.gz StartedAt: 2025-02-04 20:33:15 -0500 (Tue, 04 Feb 2025) EndedAt: 2025-02-04 20:34:39 -0500 (Tue, 04 Feb 2025) EllapsedTime: 84.1 seconds RetCode: 0 Status: OK CheckDir: flowPloidy.Rcheck Warnings: 0